BEGIN:VCALENDAR
VERSION:2.0
METHOD:PUBLISH
PRODID:-//Agenda.ad//NONSGML v1.0//EN
BEGIN:VEVENT
CLASS:PUBLIC
UID:c3138cd84adff63665f55e370641deb3@agenda.ad
DTSTAMP:20260424T092848Z
DTSTART:20191127T230000Z
DTEND:20191204T230000Z
SUMMARY:Els Encants
DESCRIPTION:\n\nMés informació\nhttps://www.agenda.ad/activitat/sant-j
 ulia-de-loria/fires-i-mercats/els-encants\n\n\nOrganitza\nUn
 icef Andorra
LOCATION:Naus Marfany
SEQUENCE:0
TRANSP:OPAQUE
X-ALT-DESC;FMTTYPE=text/html:<!DOCTYPE HTML PUBLIC "-//W3C//DTD HTML 3.2//EN"><HTML><HEAD
 ><TITLE></TITLE></HEAD><BODY><FONT FACE="Arial" SIZE=2><br/>
 <br/><b>Més informació</b><br/><a href="https://www.agenda
 .ad/activitat/sant-julia-de-loria/fires-i-mercats/els-encant
 s">https://www.agenda.ad/activitat/sant-julia-de-loria/fires
 -i-mercats/els-encants</a><br/><br/><br/><b>Organitza</b><br
 />Unicef Andorra</FONT></BODY></HTML>
END:VEVENT
END:VCALENDAR