BEGIN:VCALENDAR
VERSION:2.0
METHOD:PUBLISH
PRODID:-//Agenda.ad//NONSGML v1.0//EN
BEGIN:VEVENT
CLASS:PUBLIC
UID:4ec4844787b8e20e6e64123737c4f9c7@agenda.ad
DTSTAMP:20260421T084016Z
DTSTART:20260503T220000Z
DTEND:20260503T220000Z
SUMMARY:<span class="gray_text">Club de lectura a c&agrave;rrec de David Galv&eacute;z del llibre Casigalls de l'autor Sergi Mas</span>
DESCRIPTION:\n\nMés informació\nhttps://www.agenda.ad/activitat/sant-j
 ulia-de-loria/lletres/club-de-lectura-a-carrec-de-david-galv
 ez-llibre-de-l-autor-22716\n
LOCATION:Biblioteca del Centre Cultural Lauredià
SEQUENCE:0
TRANSP:OPAQUE
X-ALT-DESC;FMTTYPE=text/html:<!DOCTYPE HTML PUBLIC "-//W3C//DTD HTML 3.2//EN"><HTML><HEAD
 ><TITLE></TITLE></HEAD><BODY><FONT FACE="Arial" SIZE=2><br/>
 <br/><b>Més informació</b><br/><a href="https://www.agenda
 .ad/activitat/sant-julia-de-loria/lletres/club-de-lectura-a-
 carrec-de-david-galvez-llibre-de-l-autor-22716">https://www.
 agenda.ad/activitat/sant-julia-de-loria/lletres/club-de-lect
 ura-a-carrec-de-david-galvez-llibre-de-l-autor-22716</a><br/
 ></FONT></BODY></HTML>
END:VEVENT
END:VCALENDAR