BEGIN:VCALENDAR
VERSION:2.0
METHOD:PUBLISH
PRODID:-//Agenda.ad//NONSGML v1.0//EN
BEGIN:VEVENT
CLASS:PUBLIC
UID:52ffb41f5b41ff385474eed092da3be9@agenda.ad
DTSTAMP:20260422T015820Z
DTSTART:20191006T220000Z
DTEND:20191012T220000Z
SUMMARY:<p>'Jornades Capalauredianes'</p>
DESCRIPTION:Activitats relacionades amb Robert Capa.\n\nMés informació
 \nhttps://www.agenda.ad/activitat/sant-julia-de-loria/mes-cu
 ltura/-jornades-capalauredianes-\n\n\nOrganitza\nMuseu del T
 abac - Antiga Fàbrica Reig
LOCATION:Diferents espais de la parròquia
SEQUENCE:0
TRANSP:OPAQUE
X-ALT-DESC;FMTTYPE=text/html:<!DOCTYPE HTML PUBLIC "-//W3C//DTD HTML 3.2//EN"><HTML><HEAD
 ><TITLE></TITLE></HEAD><BODY><FONT FACE="Arial" SIZE=2><span
 >Activitats relacionades amb Robert Capa.</span><br/><br/><b
 >Més informació</b><br/><a href="https://www.agenda.ad/act
 ivitat/sant-julia-de-loria/mes-cultura/-jornades-capalauredi
 anes-">https://www.agenda.ad/activitat/sant-julia-de-loria/m
 es-cultura/-jornades-capalauredianes-</a><br/><br/><br/><b>O
 rganitza</b><br/>Museu del Tabac - Antiga Fàbrica Reig</FON
 T></BODY></HTML>
END:VEVENT
END:VCALENDAR