BEGIN:VCALENDAR
VERSION:2.0
METHOD:PUBLISH
PRODID:-//Agenda.ad//NONSGML v1.0//EN
BEGIN:VEVENT
CLASS:PUBLIC
UID:74fe4871c7e22b237455a5dfeece40e1@agenda.ad
DTSTAMP:20260419T201958Z
DTSTART:20260227T230000Z
DTEND:20260227T230000Z
SUMMARY:20a Assemblea Jove
DESCRIPTION:\n\nMés informació\nhttps://www.agenda.ad/activitat/sant-j
 ulia-de-loria/mes-cultura/20a-assemblea-jove\nwww.forumandor
 ra.com\n\nOrganitza\nFòrum de la Joventut d’Andorra
LOCATION:Centre Cultural Lauredià
SEQUENCE:0
TRANSP:OPAQUE
X-ALT-DESC;FMTTYPE=text/html:<!DOCTYPE HTML PUBLIC "-//W3C//DTD HTML 3.2//EN"><HTML><HEAD
 ><TITLE></TITLE></HEAD><BODY><FONT FACE="Arial" SIZE=2><br/>
 <br/><b>Més informació</b><br/><a href="https://www.agenda
 .ad/activitat/sant-julia-de-loria/mes-cultura/20a-assemblea-
 jove">https://www.agenda.ad/activitat/sant-julia-de-loria/me
 s-cultura/20a-assemblea-jove</a><br/>www.forumandorra.com<br
 /><br/><b>Organitza</b><br/>Fòrum de la Joventut d’Andorr
 a</FONT></BODY></HTML>
END:VEVENT
END:VCALENDAR