BEGIN:VCALENDAR
VERSION:2.0
METHOD:PUBLISH
PRODID:-//Agenda.ad//NONSGML v1.0//EN
BEGIN:VEVENT
CLASS:PUBLIC
UID:74d2d49ac47a601e8dcc277188325b21@agenda.ad
DTSTAMP:20260419T190331Z
DTSTART:20260305T230000Z
DTEND:20260310T230000Z
SUMMARY:5es Jornades de Bruixeria d'Andorra
DESCRIPTION:\n\nMés informació\nhttps://www.agenda.ad/activitat/sant-j
 ulia-de-loria/mes-cultura/5es-jornades-de-bruixeria\n
LOCATION:Casa Comuna
SEQUENCE:0
TRANSP:OPAQUE
X-ALT-DESC;FMTTYPE=text/html:<!DOCTYPE HTML PUBLIC "-//W3C//DTD HTML 3.2//EN"><HTML><HEAD
 ><TITLE></TITLE></HEAD><BODY><FONT FACE="Arial" SIZE=2><br/>
 <br/><b>Més informació</b><br/><a href="https://www.agenda
 .ad/activitat/sant-julia-de-loria/mes-cultura/5es-jornades-d
 e-bruixeria">https://www.agenda.ad/activitat/sant-julia-de-l
 oria/mes-cultura/5es-jornades-de-bruixeria</a><br/></FONT></
 BODY></HTML>
END:VEVENT
END:VCALENDAR