BEGIN:VCALENDAR
VERSION:2.0
METHOD:PUBLISH
PRODID:-//Agenda.ad//NONSGML v1.0//EN
BEGIN:VEVENT
CLASS:PUBLIC
UID:45d31336f396dc8b4ce470947b64b7bb@agenda.ad
DTSTAMP:20260424T133358Z
DTSTART:20191129T230000Z
DTEND:20191129T230000Z
SUMMARY:Joc d'escapada del Museu del Tabac
DESCRIPTION:Joc d'escapada per a adults (+16 anys).\n\nMés informa
 ció\nhttps://www.agenda.ad/activitat/sant-julia-de-loria/me
 s-cultura/joc-d-escapada-del-museu-del-tabac-11389\n\n\nOrga
 nitza\nMuseu del Tabac - Antiga Fàbrica Reig
LOCATION:Museu Fàbrica Reig
SEQUENCE:0
TRANSP:OPAQUE
X-ALT-DESC;FMTTYPE=text/html:<!DOCTYPE HTML PUBLIC "-//W3C//DTD HTML 3.2//EN"><HTML><HEAD
 ><TITLE></TITLE></HEAD><BODY><FONT FACE="Arial" SIZE=2><span
 >Joc d'escapada per a adults</span>&nbsp;(+16 anys).<br/><br
 /><b>Més informació</b><br/><a href="https://www.agenda.ad
 /activitat/sant-julia-de-loria/mes-cultura/joc-d-escapada-de
 l-museu-del-tabac-11389">https://www.agenda.ad/activitat/san
 t-julia-de-loria/mes-cultura/joc-d-escapada-del-museu-del-ta
 bac-11389</a><br/><br/><br/><b>Organitza</b><br/>Museu del T
 abac - Antiga Fàbrica Reig</FONT></BODY></HTML>
END:VEVENT
END:VCALENDAR