BEGIN:VCALENDAR
VERSION:2.0
METHOD:PUBLISH
PRODID:-//Agenda.ad//NONSGML v1.0//EN
BEGIN:VEVENT
CLASS:PUBLIC
UID:f94ef1230392a2067ad0b1dd0ef24054@agenda.ad
DTSTAMP:20260422T181350Z
DTSTART:20260605T220000Z
DTEND:20260605T220000Z
SUMMARY:Jornada de portes obertes de la Universitat d'Andorra
DESCRIPTION:\n\nMés informació\nhttps://www.agenda.ad/activitat/sant-j
 ulia-de-loria/mes-cultura/jornada-de-portes-obertes-de-la-un
 iversitat-d-andorra\nhttps://www.uda.ad/esdeveniment/jornada
 -de-portes-obertes-2026/\n\nOrganitza\nUniversitat d’Andor
 ra
LOCATION:Universitat d'Andorra
SEQUENCE:0
TRANSP:OPAQUE
X-ALT-DESC;FMTTYPE=text/html:<!DOCTYPE HTML PUBLIC "-//W3C//DTD HTML 3.2//EN"><HTML><HEAD
 ><TITLE></TITLE></HEAD><BODY><FONT FACE="Arial" SIZE=2><br/>
 <br/><b>Més informació</b><br/><a href="https://www.agenda
 .ad/activitat/sant-julia-de-loria/mes-cultura/jornada-de-por
 tes-obertes-de-la-universitat-d-andorra">https://www.agenda.
 ad/activitat/sant-julia-de-loria/mes-cultura/jornada-de-port
 es-obertes-de-la-universitat-d-andorra</a><br/>https://www.u
 da.ad/esdeveniment/jornada-de-portes-obertes-2026/<br/><br/>
 <b>Organitza</b><br/>Universitat d’Andorra</FONT></BODY></
 HTML>
END:VEVENT
END:VCALENDAR