BEGIN:VCALENDAR
VERSION:2.0
METHOD:PUBLISH
PRODID:-//Agenda.ad//NONSGML v1.0//EN
BEGIN:VEVENT
CLASS:PUBLIC
UID:5fc243ec440df49e8f601515accc25f7@agenda.ad
DTSTAMP:20260419T141924Z
DTSTART:20260615T220000Z
DTEND:20260615T220000Z
SUMMARY:Sessi&oacute; informativa del m&agrave;ster en Anal&iacute;tica de dades
DESCRIPTION:\n\nMés informació\nhttps://www.agenda.ad/activitat/sant-j
 ulia-de-loria/mes-cultura/sessio-informativa-del-master-en-a
 nalitica-de-dades-23861\nhttps://www.uda.ad/jpo-2026/\n\nOrg
 anitza\nUniversitat d’Andorra (UdA)
LOCATION:Universitat d'Andorra
SEQUENCE:0
TRANSP:OPAQUE
X-ALT-DESC;FMTTYPE=text/html:<!DOCTYPE HTML PUBLIC "-//W3C//DTD HTML 3.2//EN"><HTML><HEAD
 ><TITLE></TITLE></HEAD><BODY><FONT FACE="Arial" SIZE=2><br/>
 <br/><b>Més informació</b><br/><a href="https://www.agenda
 .ad/activitat/sant-julia-de-loria/mes-cultura/sessio-informa
 tiva-del-master-en-analitica-de-dades-23861">https://www.age
 nda.ad/activitat/sant-julia-de-loria/mes-cultura/sessio-info
 rmativa-del-master-en-analitica-de-dades-23861</a><br/>https
 ://www.uda.ad/jpo-2026/<br/><br/><b>Organitza</b><br/>Univer
 sitat d’Andorra (UdA)</FONT></BODY></HTML>
END:VEVENT
END:VCALENDAR