BEGIN:VCALENDAR
VERSION:2.0
METHOD:PUBLISH
PRODID:-//Agenda.ad//NONSGML v1.0//EN
BEGIN:VEVENT
CLASS:PUBLIC
UID:ccb36dc76714f9d631920339efb9e263@agenda.ad
DTSTAMP:20260422T003750Z
DTSTART:20191018T220000Z
DTEND:20191019T220000Z
SUMMARY:<span>'Bohemios' - Temporada d'&ograve;pera</span>
DESCRIPTION:Òpera còmica en dos actes de G. Donizetti\n\nM
 és informació\nhttps://www.agenda.ad/activitat/sant-julia-
 de-loria/musica/-bohemios-temporada-d-opera\n\n\nOrganitza\n
 Associació Andorra Lírica
LOCATION:Centre Cultural Lauredià
SEQUENCE:0
TRANSP:OPAQUE
X-ALT-DESC;FMTTYPE=text/html:<!DOCTYPE HTML PUBLIC "-//W3C//DTD HTML 3.2//EN"><HTML><HEAD
 ><TITLE></TITLE></HEAD><BODY><FONT FACE="Arial" SIZE=2>&Ogra
 ve;pera c&ograve;mica en dos actes de G. Donizetti<br/><br/>
 <b>Més informació</b><br/><a href="https://www.agenda.ad/a
 ctivitat/sant-julia-de-loria/musica/-bohemios-temporada-d-op
 era">https://www.agenda.ad/activitat/sant-julia-de-loria/mus
 ica/-bohemios-temporada-d-opera</a><br/><br/><br/><b>Organit
 za</b><br/>Associació Andorra Lírica</FONT></BODY></HTML>
END:VEVENT
END:VCALENDAR