BEGIN:VCALENDAR
VERSION:2.0
METHOD:PUBLISH
PRODID:-//Agenda.ad//NONSGML v1.0//EN
BEGIN:VEVENT
CLASS:PUBLIC
UID:5897bbc6eaae558cac2fadda0e65f376@agenda.ad
DTSTAMP:20260419T190611Z
DTSTART:20260314T230000Z
DTEND:20260314T230000Z
SUMMARY:Concert 'Berlioz &amp; Debussy. Les nuits d&rsquo;&eacute;t&eacute;- La damoiselle &eacute;lue'
DESCRIPTION:\n\nMés informació\nhttps://www.agenda.ad/activitat/sant-j
 ulia-de-loria/musica/concert-berlioz-and-debussy-les-nuits-d
 ete-la-damoiselle-elue-\n(+376) 394 457\n\nOrganitza\nA
 ssociació Andorra Lírica- Temporada d’Òpera d’Andorra
LOCATION:Església de Sant Julià i Sant Germà
SEQUENCE:0
TRANSP:OPAQUE
X-ALT-DESC;FMTTYPE=text/html:<!DOCTYPE HTML PUBLIC "-//W3C//DTD HTML 3.2//EN"><HTML><HEAD
 ><TITLE></TITLE></HEAD><BODY><FONT FACE="Arial" SIZE=2><br/>
 <br/><b>Més informació</b><br/><a href="https://www.agenda
 .ad/activitat/sant-julia-de-loria/musica/concert-berlioz-and
 -debussy-les-nuits-dete-la-damoiselle-elue-">https://www.age
 nda.ad/activitat/sant-julia-de-loria/musica/concert-berlioz-
 and-debussy-les-nuits-dete-la-damoiselle-elue-</a><br/>(+376
 )&nbsp;394 457<br/><br/><b>Organitza</b><br/>Associació And
 orra Lírica- Temporada d’Òpera d’Andorra</FONT></BODY>
 </HTML>
END:VEVENT
END:VCALENDAR