BEGIN:VCALENDAR
VERSION:2.0
METHOD:PUBLISH
PRODID:-//Agenda.ad//NONSGML v1.0//EN
BEGIN:VEVENT
CLASS:PUBLIC
UID:cddf5dc324cdc4ce27db126f86a79f65@agenda.ad
DTSTAMP:20260424T092846Z
DTSTART:20191213T230000Z
DTEND:20191213T230000Z
SUMMARY:Concert de Nadal
DESCRIPTION:Tradicional concert de Nadal de la Coral Rocafort\n\nMés in
 formació\nhttps://www.agenda.ad/activitat/sant-julia-de-lor
 ia/musica/concert-de-nadal-11446\n\n\nOrganitza\nCoral Rocaf
 ort
LOCATION:Església de Sant Julià i Sant Germà
SEQUENCE:0
TRANSP:OPAQUE
X-ALT-DESC;FMTTYPE=text/html:<!DOCTYPE HTML PUBLIC "-//W3C//DTD HTML 3.2//EN"><HTML><HEAD
 ><TITLE></TITLE></HEAD><BODY><FONT FACE="Arial" SIZE=2>Tradi
 cional concert de Nadal de la Coral Rocafort<br/><br/><b>Mé
 s informació</b><br/><a href="https://www.agenda.ad/activit
 at/sant-julia-de-loria/musica/concert-de-nadal-11446">https:
 //www.agenda.ad/activitat/sant-julia-de-loria/musica/concert
 -de-nadal-11446</a><br/><br/><br/><b>Organitza</b><br/>Coral
  Rocafort</FONT></BODY></HTML>
END:VEVENT
END:VCALENDAR