BEGIN:VCALENDAR
VERSION:2.0
METHOD:PUBLISH
PRODID:-//Agenda.ad//NONSGML v1.0//EN
BEGIN:VEVENT
CLASS:PUBLIC
UID:9b3131f714b51a5219e53285a95dd5ad@agenda.ad
DTSTAMP:20260422T042950Z
DTSTART:20190208T230000Z
DTEND:20190209T230000Z
SUMMARY:<span>'H&auml;nsel i Gretel' - Temporada d'&ograve;pera</span>
DESCRIPTION:Òpera en dos actes, d'E. Humperdinck\n\nMés inf
 ormació\nhttps://www.agenda.ad/activitat/sant-julia-de-lori
 a/musica/temporada-opera-9191\n
LOCATION:Centre Cultural Lauredià
SEQUENCE:0
TRANSP:OPAQUE
X-ALT-DESC;FMTTYPE=text/html:<!DOCTYPE HTML PUBLIC "-//W3C//DTD HTML 3.2//EN"><HTML><HEAD
 ><TITLE></TITLE></HEAD><BODY><FONT FACE="Arial" SIZE=2><span
 >&Ograve;pera en dos actes, d'E.&nbsp;Humperdinck</span><br/
 ><br/><b>Més informació</b><br/><a href="https://www.agend
 a.ad/activitat/sant-julia-de-loria/musica/temporada-opera-91
 91">https://www.agenda.ad/activitat/sant-julia-de-loria/musi
 ca/temporada-opera-9191</a><br/></FONT></BODY></HTML>
END:VEVENT
END:VCALENDAR