BEGIN:VCALENDAR
VERSION:2.0
METHOD:PUBLISH
PRODID:-//Agenda.ad//NONSGML v1.0//EN
BEGIN:VEVENT
CLASS:PUBLIC
UID:cb0ba4131c984cb45f725c2477b092b9@agenda.ad
DTSTAMP:20260419T190458Z
DTSTART:20260307T230000Z
DTEND:20260307T230000Z
SUMMARY:<strong>5es Jornades de Bruixeria d'Andorra:</strong> Espectacle "El secret el sol"
DESCRIPTION:El secret del Sol és un espectacle familiar ple de m&
 agrave;gia i simbologia.\n\nMés informació\nhttps://www.ag
 enda.ad/activitat/sant-julia-de-loria/teatre-i-dansa/5es-jor
 nades-de-buixeria-d-andorra-espectacle-el-secret-el-sol\n
LOCATION:Casa Comuna
SEQUENCE:0
TRANSP:OPAQUE
X-ALT-DESC;FMTTYPE=text/html:<!DOCTYPE HTML PUBLIC "-//W3C//DTD HTML 3.2//EN"><HTML><HEAD
 ><TITLE></TITLE></HEAD><BODY><FONT FACE="Arial" SIZE=2>El se
 cret del Sol &eacute;s un espectacle familiar ple de m&agrav
 e;gia i simbologia.<br/><br/><b>Més informació</b><br/><a 
 href="https://www.agenda.ad/activitat/sant-julia-de-loria/te
 atre-i-dansa/5es-jornades-de-buixeria-d-andorra-espectacle-e
 l-secret-el-sol">https://www.agenda.ad/activitat/sant-julia-
 de-loria/teatre-i-dansa/5es-jornades-de-buixeria-d-andorra-e
 spectacle-el-secret-el-sol</a><br/></FONT></BODY></HTML>
END:VEVENT
END:VCALENDAR