BEGIN:VCALENDAR
VERSION:2.0
METHOD:PUBLISH
PRODID:-//Agenda.ad//NONSGML v1.0//EN
BEGIN:VEVENT
CLASS:PUBLIC
UID:1f81ec8b8912b8e1176ebcbddd72df8e@agenda.ad
DTSTAMP:20260425T011625Z
DTSTART:20190920T220000Z
DTEND:20190920T220000Z
SUMMARY:C&agrave;sting 'Els Pastorets' 2019-2020
DESCRIPTION:Forma part d'aquesta gran família!!!\n\nMés informac
 ió\nhttps://www.agenda.ad/activitat/sant-julia-de-loria/tea
 tre-i-dansa/casting-els-pastorets-2019-2020-10997\n
LOCATION:Auditori Rocafort del Centre Cultural Lauredià
SEQUENCE:0
TRANSP:OPAQUE
X-ALT-DESC;FMTTYPE=text/html:<!DOCTYPE HTML PUBLIC "-//W3C//DTD HTML 3.2//EN"><HTML><HEAD
 ><TITLE></TITLE></HEAD><BODY><FONT FACE="Arial" SIZE=2><span
 >Forma part d'aquesta gran fam&iacute;lia!!!</span><br/><br/
 ><b>Més informació</b><br/><a href="https://www.agenda.ad/
 activitat/sant-julia-de-loria/teatre-i-dansa/casting-els-pas
 torets-2019-2020-10997">https://www.agenda.ad/activitat/sant
 -julia-de-loria/teatre-i-dansa/casting-els-pastorets-2019-20
 20-10997</a><br/></FONT></BODY></HTML>
END:VEVENT
END:VCALENDAR