BEGIN:VCALENDAR
VERSION:2.0
METHOD:PUBLISH
PRODID:-//Agenda.ad//NONSGML v1.0//EN
BEGIN:VEVENT
CLASS:PUBLIC
UID:525fdde89d1ba13e95f480b09bfb76b1@agenda.ad
DTSTAMP:20191126T052144Z
DTSTART:20191225T230000Z
DTEND:20191225T230000Z
SUMMARY:<span>55a Temporada de teatre &middot;</span>&nbsp;'Els pastorets'&nbsp;
DESCRIPTION:26a edici&oacute; consecutiva.&nbsp;Tradicional nadalenc\n\n
 Més informació\nhttps://www.agenda.ad/activitat/sant-julia
 -de-loria/teatre-i-dansa/els-pastorets-26a-edicio-consecutiv
 a\n
LOCATION:Auditori Claror del Centre Cultural i de Congressos Lauredià
SEQUENCE:0
TRANSP:OPAQUE
X-ALT-DESC;FMTTYPE=text/html:<!DOCTYPE HTML PUBLIC "-//W3C//DTD HTML 3.2//EN"><HTML><HEAD
 ><TITLE></TITLE></HEAD><BODY><FONT FACE="Arial" SIZE=2><span
 >26a edici&oacute; consecutiva.</span><span>&nbsp;Tradiciona
 l nadalenc</span><br/><br/><b>Més informació</b><br/><a hr
 ef="https://www.agenda.ad/activitat/sant-julia-de-loria/teat
 re-i-dansa/els-pastorets-26a-edicio-consecutiva">https://www
 .agenda.ad/activitat/sant-julia-de-loria/teatre-i-dansa/els-
 pastorets-26a-edicio-consecutiva</a><br/></FONT></BODY></HTM
 L>
END:VEVENT
END:VCALENDAR