BEGIN:VCALENDAR
VERSION:2.0
METHOD:PUBLISH
PRODID:-//Agenda.ad//NONSGML v1.0//EN
BEGIN:VEVENT
CLASS:PUBLIC
UID:6835bfa3930defd387658065938e6758@agenda.ad
DTSTAMP:20260424T105447Z
DTSTART:20200105T230000Z
DTEND:20200105T230000Z
SUMMARY:<span><span>55a Temporada de teatre &middot;&nbsp;</span>'Els pastorets'&nbsp;</span>
DESCRIPTION:26a edició consecutiva. Tradicional nadalenc\n\n
 Més informació\nhttps://www.agenda.ad/activitat/sant-julia
 -de-loria/teatre-i-dansa/els-pastorets-26a-edicio-consecutiv
 a-10981\n\n\nOrganitza\nComú de Sant Julià de Lòria
LOCATION:Auditori Claror del Centre Cultural Lauredià
SEQUENCE:0
TRANSP:OPAQUE
X-ALT-DESC;FMTTYPE=text/html:<!DOCTYPE HTML PUBLIC "-//W3C//DTD HTML 3.2//EN"><HTML><HEAD
 ><TITLE></TITLE></HEAD><BODY><FONT FACE="Arial" SIZE=2><span
 ><span>26a edici&oacute; consecutiva.</span>&nbsp;Tradiciona
 l nadalenc</span><br/><br/><b>Més informació</b><br/><a hr
 ef="https://www.agenda.ad/activitat/sant-julia-de-loria/teat
 re-i-dansa/els-pastorets-26a-edicio-consecutiva-10981">https
 ://www.agenda.ad/activitat/sant-julia-de-loria/teatre-i-dans
 a/els-pastorets-26a-edicio-consecutiva-10981</a><br/><br/><b
 r/><b>Organitza</b><br/>Comú de Sant Julià de Lòria</FONT
 ></BODY></HTML>
END:VEVENT
END:VCALENDAR